BEGIN:VCALENDAR
VERSION:2.0
PRODID:-//Squarespace Inc/Squarespace 6//v6//EN
BEGIN:VEVENT
UID:56a998720e4c119a51c36e87@squarespace.com
DTSTAMP:20160128T042723Z
DTSTART:20160213T083000Z
DTEND:20160213T120000Z
SUMMARY:Decoy Duck
END:VEVENT
END:VCALENDAR
