BEGIN:VCALENDAR
VERSION:2.0
PRODID:-//Squarespace Inc/Squarespace 6//v6//EN
BEGIN:VEVENT
UID:56a99824841abad2e3657d55@squarespace.com
DTSTAMP:20160128T042606Z
DTSTART:20160212T083000Z
DTEND:20160212T120000Z
SUMMARY:A & P. (Anthony & Pete)
END:VEVENT
END:VCALENDAR
