BEGIN:VCALENDAR
VERSION:2.0
PRODID:-//Squarespace Inc/Squarespace 6//v6//EN
BEGIN:VEVENT
UID:56a997c3ab2810113cc24780@squarespace.com
DTSTAMP:20160128T042446Z
DTSTART:20160211T073000Z
DTEND:20160211T103000Z
SUMMARY:Bobby Lee
END:VEVENT
END:VCALENDAR
