BEGIN:VCALENDAR
VERSION:2.0
PRODID:-//Squarespace Inc/Squarespace 6//v6//EN
BEGIN:VEVENT
UID:56a9976c1115e0935b741213@squarespace.com
DTSTAMP:20160129T001211Z
DTSTART:20160210T070000Z
DTEND:20160210T100000Z
SUMMARY:Karaoke with Lance
END:VEVENT
END:VCALENDAR
