BEGIN:VCALENDAR
VERSION:2.0
PRODID:-//Squarespace Inc/Squarespace 6//v6//EN
BEGIN:VEVENT
UID:56832f83a2bab87f93f41acb@squarespace.com
DTSTAMP:20151230T011319Z
DTSTART:20160201T060000Z
DTEND:20160201T090000Z
SUMMARY:Texas Holdem
END:VEVENT
END:VCALENDAR
