BEGIN:VCALENDAR
VERSION:2.0
PRODID:-//Squarespace Inc/Squarespace 6//v6//EN
BEGIN:VEVENT
UID:5668e0df57eb8d68a43a2095@squarespace.com
DTSTAMP:20151211T035349Z
DTSTART:20160109T083000Z
DTEND:20160109T120000Z
SUMMARY:Don't Tell Mama
END:VEVENT
END:VCALENDAR
