BEGIN:VCALENDAR
VERSION:2.0
PRODID:-//Squarespace Inc/Squarespace 6//v6//EN
BEGIN:VEVENT
UID:5668e0cf0ab3777a228e3506@squarespace.com
DTSTAMP:20151211T035334Z
DTSTART:20160108T083000Z
DTEND:20160108T120000Z
SUMMARY:Reckless Duo
END:VEVENT
END:VCALENDAR
