BEGIN:VCALENDAR
VERSION:2.0
PRODID:-//Squarespace Inc/Squarespace 6//v6//EN
BEGIN:VEVENT
UID:5668e0c00ab3777a228e3489@squarespace.com
DTSTAMP:20151211T035315Z
DTSTART:20160107T073000Z
DTEND:20160107T103000Z
SUMMARY:Nick Lee
END:VEVENT
END:VCALENDAR
