BEGIN:VCALENDAR
VERSION:2.0
PRODID:-//Squarespace Inc/Squarespace 6//v6//EN
BEGIN:VEVENT
UID:5668e094a976af5e818691b2@squarespace.com
DTSTAMP:20151211T035252Z
DTSTART:20160105T060000Z
DTEND:20160105T090000Z
SUMMARY:Quiz Night
END:VEVENT
END:VCALENDAR
