BEGIN:VCALENDAR
VERSION:2.0
PRODID:-//Squarespace Inc/Squarespace 6//v6//EN
BEGIN:VEVENT
UID:5668e31b9cadb6552c1f458c@squarespace.com
DTSTAMP:20151210T022754Z
DTSTART:20160131T010000Z
DTEND:20160131T040000Z
SUMMARY:The Grooves
END:VEVENT
END:VCALENDAR
