BEGIN:VCALENDAR
VERSION:2.0
PRODID:-//Squarespace Inc/Squarespace 6//v6//EN
BEGIN:VEVENT
UID:5668e2f59cadb6552c1f440b@squarespace.com
DTSTAMP:20151211T035904Z
DTSTART:20160129T083000Z
DTEND:20160129T120000Z
SUMMARY:Absolut
END:VEVENT
END:VCALENDAR
