BEGIN:VCALENDAR
VERSION:2.0
PRODID:-//Squarespace Inc/Squarespace 6//v6//EN
BEGIN:VEVENT
UID:5668e2e45a5668b61423bca2@squarespace.com
DTSTAMP:20151211T035847Z
DTSTART:20160128T073000Z
DTEND:20160128T103000Z
SUMMARY:Bobby Lee
END:VEVENT
END:VCALENDAR
