BEGIN:VCALENDAR
VERSION:2.0
PRODID:-//Squarespace Inc/Squarespace 6//v6//EN
BEGIN:VEVENT
UID:5668e2ce9cadb6552c1f425e@squarespace.com
DTSTAMP:20151211T035839Z
DTSTART:20160127T070000Z
DTEND:20160127T100000Z
SUMMARY:Karaoke with Lance
END:VEVENT
END:VCALENDAR
