BEGIN:VCALENDAR
VERSION:2.0
PRODID:-//Squarespace Inc/Squarespace 6//v6//EN
BEGIN:VEVENT
UID:5668e2badf40f341d2acde22@squarespace.com
DTSTAMP:20151211T035822Z
DTSTART:20160126T060000Z
DTEND:20160126T090000Z
SUMMARY:Quiz Night
END:VEVENT
END:VCALENDAR
