BEGIN:VCALENDAR
VERSION:2.0
PRODID:-//Squarespace Inc/Squarespace 6//v6//EN
BEGIN:VEVENT
UID:5668e2a35a5668b61423b9fe@squarespace.com
DTSTAMP:20151211T035812Z
DTSTART:20160125T060000Z
DTEND:20160125T090000Z
SUMMARY:Texas Holdem
END:VEVENT
END:VCALENDAR
