BEGIN:VCALENDAR
VERSION:2.0
PRODID:-//Squarespace Inc/Squarespace 6//v6//EN
BEGIN:VEVENT
UID:5668e22ba128e6e00f004ec7@squarespace.com
DTSTAMP:20151210T022402Z
DTSTART:20160124T010000Z
DTEND:20160124T040000Z
SUMMARY:The Grooves
END:VEVENT
END:VCALENDAR
