BEGIN:VCALENDAR
VERSION:2.0
PRODID:-//Squarespace Inc/Squarespace 6//v6//EN
BEGIN:VEVENT
UID:5668e21ab204d5f824339e84@squarespace.com
DTSTAMP:20151211T035803Z
DTSTART:20160123T083000Z
DTEND:20160123T120000Z
SUMMARY:Tri Zone
END:VEVENT
END:VCALENDAR
