BEGIN:VCALENDAR
VERSION:2.0
PRODID:-//Squarespace Inc/Squarespace 6//v6//EN
BEGIN:VEVENT
UID:5668e1f50ab3777a228e423e@squarespace.com
DTSTAMP:20151211T035738Z
DTSTART:20160121T073000Z
DTEND:20160121T103000Z
SUMMARY:Nick Lee
END:VEVENT
END:VCALENDAR
