BEGIN:VCALENDAR
VERSION:2.0
PRODID:-//Squarespace Inc/Squarespace 6//v6//EN
BEGIN:VEVENT
UID:5668e205a128e6e00f004d32@squarespace.com
DTSTAMP:20151211T035750Z
DTSTART:20160122T083000Z
DTEND:20160122T120000Z
SUMMARY:Flat City Brotherhood
END:VEVENT
END:VCALENDAR
