BEGIN:VCALENDAR
VERSION:2.0
PRODID:-//Squarespace Inc/Squarespace 6//v6//EN
BEGIN:VEVENT
UID:5668e1de0ab3777a228e4121@squarespace.com
DTSTAMP:20151211T035730Z
DTSTART:20160120T070000Z
DTEND:20160120T100000Z
SUMMARY:Karaoke with Lance
END:VEVENT
END:VCALENDAR
