BEGIN:VCALENDAR
VERSION:2.0
PRODID:-//Squarespace Inc/Squarespace 6//v6//EN
BEGIN:VEVENT
UID:5668e07957eb8d68a43a1c6d@squarespace.com
DTSTAMP:20151211T035243Z
DTSTART:20160102T083000Z
DTEND:20160102T120000Z
SUMMARY:Flat City Brotherhood
END:VEVENT
END:VCALENDAR
