BEGIN:VCALENDAR
VERSION:2.0
PRODID:-//Squarespace Inc/Squarespace 6//v6//EN
BEGIN:VEVENT
UID:5668e1c9a128e6e00f004ab9@squarespace.com
DTSTAMP:20151211T035719Z
DTSTART:20160119T060000Z
DTEND:20160119T090000Z
SUMMARY:Quiz Night
END:VEVENT
END:VCALENDAR
