BEGIN:VCALENDAR
VERSION:2.0
PRODID:-//Squarespace Inc/Squarespace 6//v6//EN
BEGIN:VEVENT
UID:5668e1b6b204d5f8243399b5@squarespace.com
DTSTAMP:20151211T035026Z
DTSTART:20160118T060000Z
DTEND:20160118T090000Z
SUMMARY:Texas Holdem
END:VEVENT
END:VCALENDAR
