BEGIN:VCALENDAR
VERSION:2.0
PRODID:-//Squarespace Inc/Squarespace 6//v6//EN
BEGIN:VEVENT
UID:5668e1920ab3777a228e3dc9@squarespace.com
DTSTAMP:20151211T035011Z
DTSTART:20160117T010000Z
DTEND:20160117T040000Z
SUMMARY:The Grooves
END:VEVENT
END:VCALENDAR
