BEGIN:VCALENDAR
VERSION:2.0
PRODID:-//Squarespace Inc/Squarespace 6//v6//EN
BEGIN:VEVENT
UID:5668e17f0ab3777a228e3d09@squarespace.com
DTSTAMP:20151230T010638Z
DTSTART:20160116T083000Z
DTEND:20160116T120000Z
SUMMARY:A & P
END:VEVENT
END:VCALENDAR
