BEGIN:VCALENDAR
VERSION:2.0
PRODID:-//Squarespace Inc/Squarespace 6//v6//EN
BEGIN:VEVENT
UID:5668e16ba976af5e81869ae1@squarespace.com
DTSTAMP:20151230T010622Z
DTSTART:20160115T083000Z
DTEND:20160115T123000Z
SUMMARY:Hot Gossip
END:VEVENT
END:VCALENDAR
