BEGIN:VCALENDAR
VERSION:2.0
PRODID:-//Squarespace Inc/Squarespace 6//v6//EN
BEGIN:VEVENT
UID:5668e158a976af5e81869a20@squarespace.com
DTSTAMP:20151211T034900Z
DTSTART:20160114T073000Z
DTEND:20160114T103000Z
SUMMARY:Bobby Lee
END:VEVENT
END:VCALENDAR
