BEGIN:VCALENDAR
VERSION:2.0
PRODID:-//Squarespace Inc/Squarespace 6//v6//EN
BEGIN:VEVENT
UID:5668e12d0ab3777a228e3982@squarespace.com
DTSTAMP:20151211T034833Z
DTSTART:20160112T060000Z
DTEND:20160112T090000Z
SUMMARY:Quiz Night
END:VEVENT
END:VCALENDAR
