BEGIN:VCALENDAR
VERSION:2.0
PRODID:-//Squarespace Inc/Squarespace 6//v6//EN
BEGIN:VEVENT
UID:5668e1140ab3777a228e385d@squarespace.com
DTSTAMP:20151211T035401Z
DTSTART:20160111T060000Z
DTEND:20160111T090000Z
SUMMARY:Texas Holdem
END:VEVENT
END:VCALENDAR
