BEGIN:VCALENDAR
VERSION:2.0
PRODID:-//Squarespace Inc/Squarespace 6//v6//EN
BEGIN:VEVENT
UID:5668e0f6a976af5e81869590@squarespace.com
DTSTAMP:20151210T021851Z
DTSTART:20160110T010000Z
DTEND:20160110T040000Z
SUMMARY:The Grooves
END:VEVENT
END:VCALENDAR
