BEGIN:VCALENDAR
VERSION:2.0
PRODID:-//Squarespace Inc/Squarespace 6//v6//EN
BEGIN:VEVENT
UID:5668e3049cadb6552c1f44ba@squarespace.com
DTSTAMP:20151211T035926Z
DTSTART:20160130T083000Z
DTEND:20160130T120000Z
SUMMARY:Decoy Duck
END:VEVENT
END:VCALENDAR
