BEGIN:VCALENDAR
VERSION:2.0
PRODID:-//Squarespace Inc/Squarespace 6//v6//EN
BEGIN:VEVENT
UID:5668e0630ab3777a228e306c@squarespace.com
DTSTAMP:20151211T035221Z
DTSTART:20160101T083000Z
DTEND:20160101T120000Z
SUMMARY:Tri Zone
END:VEVENT
END:VCALENDAR
