BEGIN:VCALENDAR
VERSION:2.0
PRODID:-//Squarespace Inc/Squarespace 6//v6//EN
BEGIN:VEVENT
UID:5668c02c7086d7721f1ddb12@squarespace.com
DTSTAMP:20151211T035156Z
DTSTART:20151231T070000Z
DTEND:20151231T120000Z
SUMMARY:Hot Gossip
END:VEVENT
END:VCALENDAR
