BEGIN:VCALENDAR
VERSION:2.0
PRODID:-//Squarespace Inc/Squarespace 6//v6//EN
BEGIN:VEVENT
UID:5668c00e7086d7721f1dd9aa@squarespace.com
DTSTAMP:20151211T035119Z
DTSTART:20151230T070000Z
DTEND:20151230T100000Z
SUMMARY:Karaoke with Lance
END:VEVENT
END:VCALENDAR
