BEGIN:VCALENDAR
VERSION:2.0
PRODID:-//Squarespace Inc/Squarespace 6//v6//EN
BEGIN:VEVENT
UID:5668bfec0e4c11de0250c9e0@squarespace.com
DTSTAMP:20151211T035100Z
DTSTART:20151224T073000Z
DTEND:20151224T103000Z
SUMMARY:Nick Lee
END:VEVENT
END:VCALENDAR
