BEGIN:VCALENDAR
VERSION:2.0
PRODID:-//Squarespace Inc/Squarespace 6//v6//EN
BEGIN:VEVENT
UID:5668bfd07086d7721f1dd699@squarespace.com
DTSTAMP:20151211T035045Z
DTSTART:20151222T060000Z
DTEND:20151222T090000Z
SUMMARY:Quiz Night
END:VEVENT
END:VCALENDAR
