BEGIN:VCALENDAR
VERSION:2.0
PRODID:-//Squarespace Inc/Squarespace 6//v6//EN
BEGIN:VEVENT
UID:5668e455c647ad70034ef406@squarespace.com
DTSTAMP:20151211T035653Z
DTSTART:20151221T060000Z
DTEND:20151221T090000Z
SUMMARY:Texas Holdem
END:VEVENT
END:VCALENDAR
