BEGIN:VCALENDAR
VERSION:2.0
PRODID:-//Squarespace Inc/Squarespace 6//v6//EN
BEGIN:VEVENT
UID:5668bf7cc21b86d8ce709743@squarespace.com
DTSTAMP:20151210T030328Z
DTSTART:20151220T030000Z
DTEND:20151220T063000Z
SUMMARY:Flat City Brotherhood
END:VEVENT
END:VCALENDAR
