BEGIN:VCALENDAR
VERSION:2.0
PRODID:-//Squarespace Inc/Squarespace 6//v6//EN
BEGIN:VEVENT
UID:5668b49a69492e248d8c6f44@squarespace.com
DTSTAMP:20151211T035614Z
DTSTART:20151219T083000Z
DTEND:20151219T120000Z
SUMMARY:Absolut
END:VEVENT
END:VCALENDAR
