BEGIN:VCALENDAR
VERSION:2.0
PRODID:-//Squarespace Inc/Squarespace 6//v6//EN
BEGIN:VEVENT
UID:5668b484a12f44d5ecc1eab6@squarespace.com
DTSTAMP:20151211T035557Z
DTSTART:20151218T083000Z
DTEND:20151218T120000Z
SUMMARY:Reckless Duo
END:VEVENT
END:VCALENDAR
