BEGIN:VCALENDAR
VERSION:2.0
PRODID:-//Squarespace Inc/Squarespace 6//v6//EN
BEGIN:VEVENT
UID:5668b44469492e248d8c69ec@squarespace.com
DTSTAMP:20151211T035538Z
DTSTART:20151217T073000Z
DTEND:20151217T103000Z
SUMMARY:Bobby Lee
END:VEVENT
END:VCALENDAR
