BEGIN:VCALENDAR
VERSION:2.0
PRODID:-//Squarespace Inc/Squarespace 6//v6//EN
BEGIN:VEVENT
UID:5668b41369492e248d8c673d@squarespace.com
DTSTAMP:20151211T035516Z
DTSTART:20151215T060000Z
DTEND:20151215T090000Z
SUMMARY:Quiz Night
END:VEVENT
END:VCALENDAR
