BEGIN:VCALENDAR
VERSION:2.0
PRODID:-//Squarespace Inc/Squarespace 6//v6//EN
BEGIN:VEVENT
UID:5668b3d2c647ad70034c8f6e@squarespace.com
DTSTAMP:20151214T002621Z
DTSTART:20151214T060000Z
DTEND:20151214T100000Z
SUMMARY:Texas Holdem
END:VEVENT
END:VCALENDAR
