BEGIN:VCALENDAR
VERSION:2.0
PRODID:-//Squarespace Inc/Squarespace 6//v6//EN
BEGIN:VEVENT
UID:5668bfbe1115e015efb7c0c8@squarespace.com
DTSTAMP:20151211T040024Z
DTSTART:20151210T060000Z
DTEND:20151210T103000Z
SUMMARY:Caleb
END:VEVENT
END:VCALENDAR
