BEGIN:VCALENDAR
VERSION:2.0
PRODID:-//Squarespace Inc/Squarespace 6//v6//EN
BEGIN:VEVENT
UID:5668b42dc647ad70034c93ed@squarespace.com
DTSTAMP:20151211T035528Z
DTSTART:20151216T070000Z
DTEND:20151216T100000Z
SUMMARY:Karaoke with Lance
END:VEVENT
END:VCALENDAR
